BEGIN:VCALENDAR
VERSION:2.0
PRODID:-//Conservatorio de Teruel
CALSCALE:GREGORIAN
METHOD:PUBLISH
X-WR-CALNAME:Conservatorio de Teruel
X-ORIGINAL-URL:http://www.conservatoriodeteruel.es/conservatorio/k-event/concierto-de-alumnado-de-viola-4/
X-WR-CALDESC:CONCIERTO DE ALUMNADO DE VIOLA
BEGIN:VEVENT
DTSTART:
DTEND:
SUMMARY:CONCIERTO DE ALUMNADO DE VIOLA
DESCRIPTION:“CONCIERTO DE ALUMNADO DE VIOLA”. PROFESOR: FRANCISCO GASQUE.
22 de Mayo de 2026, 17 h. Aula 402 del Conservatorio Profesional de Música de Teruel
LOCATION:
END:VEVENT
END:VCALENDAR
