BEGIN:VCALENDAR
VERSION:2.0
PRODID:-//Conservatorio de Teruel
CALSCALE:GREGORIAN
METHOD:PUBLISH
X-WR-CALNAME:Conservatorio de Teruel
X-ORIGINAL-URL:http://www.conservatoriodeteruel.es/conservatorio/k-event/concierto-de-alumnado-de-violin-8/
X-WR-CALDESC:CONCIERTO DE ALUMNADO DE VIOLÍN
BEGIN:VEVENT
DTSTART:
DTEND:
SUMMARY:CONCIERTO DE ALUMNADO DE VIOLÍN
DESCRIPTION:“CONCIERTO DE ALUMNADO DE VIOLÍN”. PROFESOR: PEDRO ROQUE.
4 de Junio de 2026, 19 h. Aula 402 del Conservatorio Profesional de Música de Teruel
LOCATION:
END:VEVENT
END:VCALENDAR
