BEGIN:VCALENDAR
VERSION:2.0
PRODID:-//Conservatorio de Teruel
CALSCALE:GREGORIAN
METHOD:PUBLISH
X-WR-CALNAME:Conservatorio de Teruel
X-ORIGINAL-URL:http://www.conservatoriodeteruel.es/conservatorio/k-event/concierto-de-alumnado-de-trombon-2/
X-WR-CALDESC:CONCIERTO DE ALUMNADO DE TROMBÓN
BEGIN:VEVENT
DTSTART:
DTEND:
SUMMARY:CONCIERTO DE ALUMNADO DE TROMBÓN
DESCRIPTION:“CONCIERTO DE ALUMNOS DE TROMBÓN”. PROFESOR: RAFAEL MAHIQUES.
14 de Abril de 2026, 16 h. Aula 101 del Conservatorio Profesional de Música de Teruel
LOCATION:
END:VEVENT
END:VCALENDAR
