BEGIN:VCALENDAR
VERSION:2.0
PRODID:-//Conservatorio de Teruel
CALSCALE:GREGORIAN
METHOD:PUBLISH
X-WR-CALNAME:Conservatorio de Teruel
X-ORIGINAL-URL:http://www.conservatoriodeteruel.es/conservatorio/k-event/taller-de-historia-de-la-musica-y-organo-2/
X-WR-CALDESC:TALLER DE HISTORIA DE LA MÚSICA Y ÓRGANO
BEGIN:VEVENT
DTSTART:
DTEND:
SUMMARY:TALLER DE HISTORIA DE LA MÚSICA Y ÓRGANO
DESCRIPTION:“TALLER DE HISTORIA DE LA MÚSICA Y ÓRGANO”. PONENTE: BRUNO FORST.
11 de Mayo de 2026, 19:30 h. Aula de Órgano del Conservatorio y Auditorio Torre El Salvador
LOCATION:
END:VEVENT
END:VCALENDAR
