BEGIN:VCALENDAR
VERSION:2.0
PRODID:-//Conservatorio de Teruel
CALSCALE:GREGORIAN
METHOD:PUBLISH
X-WR-CALNAME:Conservatorio de Teruel
X-ORIGINAL-URL:http://www.conservatoriodeteruel.es/conservatorio/k-event/excursiones-de-colegios-al-conservatorio-1a-de-2-3/
X-WR-CALDESC:EXCURSIONES DE COLEGIOS AL CONSERVATORIO (1ª DE 2)
BEGIN:VEVENT
DTSTART:
DTEND:
SUMMARY:EXCURSIONES DE COLEGIOS AL CONSERVATORIO (1ª DE 2)
DESCRIPTION:“EXCURSIONES DE COLEGIOS AL CONSERVATORIO CON PRESENTACIÓN DE INSTRUMENTOS  Y CONCIERTO DIDÁCTICO”. 12 de Mayo de 2026, 11 h. Auditorio Torre El Salvador.
-11 h: CEIP Las Anejas y CEIP La Fuenfresca
-12:15 h: CEIP Miguel Vallés y Colegio Victoria Díez
LOCATION:
END:VEVENT
END:VCALENDAR
