BEGIN:VCALENDAR
VERSION:2.0
PRODID:-//Conservatorio de Teruel
CALSCALE:GREGORIAN
METHOD:PUBLISH
X-WR-CALNAME:Conservatorio de Teruel
X-ORIGINAL-URL:http://www.conservatoriodeteruel.es/conservatorio/k-event/excursiones-de-colegios-al-conservatorio-2a-de-2-3/
X-WR-CALDESC:EXCURSIONES DE COLEGIOS AL CONSERVATORIO (2ª DE 2)
BEGIN:VEVENT
DTSTART:
DTEND:
SUMMARY:EXCURSIONES DE COLEGIOS AL CONSERVATORIO (2ª DE 2)
DESCRIPTION:“EXCURSIONES DE COLEGIOS AL CONSERVATORIO CON PRESENTACIÓN DE INSTRUMENTOS  Y CONCIERTO DIDÁCTICO”. 13 de Mayo de 2026, 09:45 h. Auditorio Torre El Salvador.
-09:45 h: Colegio La Salle y CEIP Ensanche
-11 h: Colegio La Purísima y Santos Mártires 
-12:15 h: CEIP Ensanche, Colegio Las Viñas y CEIP Pierres Vedel
LOCATION:
END:VEVENT
END:VCALENDAR
