BEGIN:VCALENDAR
VERSION:2.0
PRODID:-//Conservatorio de Teruel
CALSCALE:GREGORIAN
METHOD:PUBLISH
X-WR-CALNAME:Conservatorio de Teruel
X-ORIGINAL-URL:http://www.conservatoriodeteruel.es/conservatorio/k-event/concierto-de-profesores-5/
X-WR-CALDESC:CONCIERTO DE PROFESORES
BEGIN:VEVENT
DTSTART:
DTEND:
SUMMARY:CONCIERTO DE PROFESORES
DESCRIPTION:“CONCIERTO DE PROFESORES DEL CPM DE TERUEL”.
12 de Mayo de 2026, 19 h. Auditorio Torre El Salvador, (Centro Cultural de San Julián)
LOCATION:
END:VEVENT
END:VCALENDAR
