BEGIN:VCALENDAR
VERSION:2.0
PRODID:-//Conservatorio de Teruel
CALSCALE:GREGORIAN
METHOD:PUBLISH
X-WR-CALNAME:Conservatorio de Teruel
X-ORIGINAL-URL:http://www.conservatoriodeteruel.es/conservatorio/k-event/concierto-didactico-en-familia-2/
X-WR-CALDESC:CONCIERTO DIDÁCTICO EN FAMILIA
BEGIN:VEVENT
DTSTART:
DTEND:
SUMMARY:CONCIERTO DIDÁCTICO EN FAMILIA
DESCRIPTION:“CONCIERTO DIDÁCTICO EN FAMILIA" (A CARGO DE PROFESORES DEL CPM DE TERUEL).
13 de Mayo de 2026, 17:30 h. Auditorio Torre El Salvador, (Centro Cultural de San Julián)
LOCATION:
END:VEVENT
END:VCALENDAR
