BEGIN:VCALENDAR
VERSION:2.0
PRODID:-//Conservatorio de Teruel
CALSCALE:GREGORIAN
METHOD:PUBLISH
X-WR-CALNAME:Conservatorio de Teruel
X-ORIGINAL-URL:http://www.conservatoriodeteruel.es/conservatorio/k-event/concierto-mujeres-en-la-musica-2/
X-WR-CALDESC:CONCIERTO: MUJERES EN LA MÚSICA
BEGIN:VEVENT
DTSTART:
DTEND:
SUMMARY:CONCIERTO: MUJERES EN LA MÚSICA
DESCRIPTION:“CONCIERTO: MUJERES EN LA MÚSICA”.
14 de Mayo de 2026, 17 h. Auditorio Torre El Salvador, (Centro Cultural de San Julián)
LOCATION:
END:VEVENT
END:VCALENDAR
