BEGIN:VCALENDAR
VERSION:2.0
PRODID:-//Conservatorio de Teruel
CALSCALE:GREGORIAN
METHOD:PUBLISH
X-WR-CALNAME:Conservatorio de Teruel
X-ORIGINAL-URL:http://www.conservatoriodeteruel.es/conservatorio/k-event/concierto-homenaje-a-manuel-de-falla/
X-WR-CALDESC:CONCIERTO HOMENAJE A MANUEL DE FALLA
BEGIN:VEVENT
DTSTART:
DTEND:
SUMMARY:CONCIERTO HOMENAJE A MANUEL DE FALLA
DESCRIPTION:“CONCIERTO HOMENAJE A MANUEL DE FALLA” (150 AÑOS DE SU NACIMIENTO). 
ALUMNOS DE PIANO Y DE HISTORIA DE LA MÚSICA.
14 de Mayo de 2026, 19 h. Auditorio Torre el Salvador (San Julián)
LOCATION:
END:VEVENT
END:VCALENDAR
