BEGIN:VCALENDAR
VERSION:2.0
PRODID:-//Conservatorio de Teruel
CALSCALE:GREGORIAN
METHOD:PUBLISH
X-WR-CALNAME:Conservatorio de Teruel
X-ORIGINAL-URL:http://www.conservatoriodeteruel.es/conservatorio/k-event/charla-sobre-acoso-escolar/
X-WR-CALDESC:CHARLA SOBRE ACOSO ESCOLAR
BEGIN:VEVENT
DTSTART:
DTEND:
SUMMARY:CHARLA SOBRE ACOSO ESCOLAR
DESCRIPTION:“CHARLA SOBRE ACOSO ESCOLAR". A CARGO DE RAQUEL PÉREZ.
14 de Mayo de 2026, 16 h. Auditorio Torre El Salvador
LOCATION:
END:VEVENT
END:VCALENDAR
