BEGIN:VCALENDAR
VERSION:2.0
PRODID:-//Conservatorio de Teruel
CALSCALE:GREGORIAN
METHOD:PUBLISH
X-WR-CALNAME:Conservatorio de Teruel
X-ORIGINAL-URL:http://www.conservatoriodeteruel.es/conservatorio/k-event/taller-concierto-g-kurtag/
X-WR-CALDESC:TALLER-CONCIERTO G. KURTÁG
BEGIN:VEVENT
DTSTART:
DTEND:
SUMMARY:TALLER-CONCIERTO G. KURTÁG
DESCRIPTION:“TALLER Y CONCIERTO DE PIANO CONTEMPORÁNEO".
(G. KURTÁG, 100 ANIVERSARIO DE SU NACIMIENTO).
12 de Mayo de 2026, 16 h. Aula 402 del Conservatorio Profesional de Música de Teruel
LOCATION:
END:VEVENT
END:VCALENDAR
