BEGIN:VCALENDAR
VERSION:2.0
PRODID:-//Conservatorio de Teruel
CALSCALE:GREGORIAN
METHOD:PUBLISH
X-WR-CALNAME:Conservatorio de Teruel
X-ORIGINAL-URL:http://www.conservatoriodeteruel.es/conservatorio/k-event/concierto-de-alumnado-de-flauta-4/
X-WR-CALDESC:CONCIERTO DE ALUMNADO DE FLAUTA
BEGIN:VEVENT
DTSTART:
DTEND:
SUMMARY:CONCIERTO DE ALUMNADO DE FLAUTA
DESCRIPTION:“CONCIERTO DE ALUMNADO DE FLAUTA”. PROFESOR: JOSÉ FERRER.
4 de Junio de 2026, 17 h. Aula 402 del Conservatorio Profesional de Música de Teruel
LOCATION:
END:VEVENT
END:VCALENDAR
